BEGIN:VCALENDAR
PRODID:-//eluceo/ical//2.0/EN
VERSION:2.0
CALSCALE:GREGORIAN
BEGIN:VEVENT
UID:603cdfca014a47d9fe0c01b05e76b205
DTSTAMP:20260422T041555Z
SUMMARY:11:30 AM - River Garden Gala committee opening lunch meeting
DESCRIPTION:Jewish Federation & Foundation of Northeast Florida\nCommunity 
 Calendar\nhttps://jewishjacksonville.org/jewish-federation-of-jacksonville
 -calendar/river-garden-gala-committee-opening-lunch-meetingfeb27\n\nRG Gal
 a 2017 committee meeting
DTSTART;TZID=America/New_York:20170228T113000
DTEND;TZID=America/New_York:20170228T130000
END:VEVENT
END:VCALENDAR
