BEGIN:VCALENDAR
PRODID:-//eluceo/ical//2.0/EN
VERSION:2.0
CALSCALE:GREGORIAN
BEGIN:VEVENT
UID:45bb0fee5312e34c026bf049bc595ce1
DTSTAMP:20260422T110037Z
SUMMARY:10:30 AM - River Garden Gala committee meeting
DESCRIPTION:Jewish Federation & Foundation of Northeast Florida\nCommunity 
 Calendar\nhttps://jewishjacksonville.org/jewish-federation-of-jacksonville
 -calendar/river-garden-gala-committee-meetingsept2017\n\nRiver Garden Gala
  committee meeting
DTSTART;TZID=America/New_York:20170907T103000
DTEND;TZID=America/New_York:20170907T123000
END:VEVENT
END:VCALENDAR
