BEGIN:VCALENDAR
PRODID:-//eluceo/ical//2.0/EN
VERSION:2.0
CALSCALE:GREGORIAN
BEGIN:VEVENT
UID:5a022ea86e624e645b31743624d52a4f
DTSTAMP:20260421T124655Z
SUMMARY:River Garden Foundation Board meeting
DESCRIPTION:Jewish Federation & Foundation of Northeast Florida\nCommunity 
 Calendar\nhttps://jewishjacksonville.org/jewish-federation-of-jacksonville
 -calendar/river-garden-foundation-board-meetingoct2019\n\nRiver Garden Fou
 ndation Board Meeting.
DTSTART;TZID=America/New_York:20191023T120000
DTEND;TZID=America/New_York:20191023T140000
END:VEVENT
END:VCALENDAR
