BEGIN:VCALENDAR
PRODID:-//eluceo/ical//2.0/EN
VERSION:2.0
CALSCALE:GREGORIAN
BEGIN:VEVENT
UID:04892694f93b09b1f5c366d2d17946b5
DTSTAMP:20260422T213958Z
SUMMARY:River Garden Foundation Board Meeting
DESCRIPTION:Jewish Federation & Foundation of Northeast Florida\nCommunity 
 Calendar\nhttps://jewishjacksonville.org/jewish-federation-of-jacksonville
 -calendar/river-garden-foundation-board-meetingjune2018\n\nRiver Garden Fo
 undation board meeting
DTSTART;TZID=America/New_York:20180620T120000
DTEND;TZID=America/New_York:20180620T140000
END:VEVENT
END:VCALENDAR
