BEGIN:VCALENDAR
PRODID:-//eluceo/ical//2.0/EN
VERSION:2.0
CALSCALE:GREGORIAN
BEGIN:VEVENT
UID:b3b708b3c23800d36dd4d881ac71968e
DTSTAMP:20260426T030147Z
SUMMARY:River Garden Foundation Board Meeting
DESCRIPTION:Jewish Federation & Foundation of Northeast Florida\nCommunity 
 Calendar\nhttps://jewishjacksonville.org/jewish-federation-of-jacksonville
 -calendar/river-garden-foundation-board-meetingjan2019\n\nRiver Garden Fou
 ndation Board meeting
DTSTART;TZID=America/New_York:20190116T120000
DTEND;TZID=America/New_York:20190116T140000
END:VEVENT
END:VCALENDAR
