BEGIN:VCALENDAR
PRODID:-//eluceo/ical//2.0/EN
VERSION:2.0
CALSCALE:GREGORIAN
BEGIN:VEVENT
UID:a33db8c4626936b5e5f972611e3fab09
DTSTAMP:20260424T162101Z
SUMMARY:River Garden Foundation Board meeting
DESCRIPTION:Jewish Federation & Foundation of Northeast Florida\nCommunity 
 Calendar\nhttps://jewishjacksonville.org/jewish-federation-of-jacksonville
 -calendar/river-garden-foundation-board-meeting3\n\nRiver Garden Foundatio
 n board meeting.
DTSTART;TZID=America/New_York:20150616T120000
DTEND;TZID=America/New_York:20150616T140000
END:VEVENT
END:VCALENDAR
