BEGIN:VCALENDAR
PRODID:-//eluceo/ical//2.0/EN
VERSION:2.0
CALSCALE:GREGORIAN
BEGIN:VEVENT
UID:6a5be9a877e13610ecfb68955725897d
DTSTAMP:20260423T212737Z
SUMMARY:11AM FUNDRAISER River Garden Auxiliary Special Event
DESCRIPTION:Jewish Federation & Foundation of Northeast Florida\nCommunity 
 Calendar\nhttps://jewishjacksonville.org/jewish-federation-of-jacksonville
 -calendar/river-garden-auxiliary-special-event\n\nRiver Garden Auxiliary s
 pecial event
DTSTART;TZID=America/New_York:20150423T110000
DTEND;TZID=America/New_York:20150423T143000
END:VEVENT
END:VCALENDAR
