BEGIN:VCALENDAR
PRODID:-//eluceo/ical//2.0/EN
VERSION:2.0
CALSCALE:GREGORIAN
BEGIN:VEVENT
UID:8cf189e4a79c70619f6dfea2d3bb9a71
DTSTAMP:20260423T193013Z
SUMMARY:River Garden Auxiliary Donor Lunch
DESCRIPTION:Jewish Federation & Foundation of Northeast Florida\nCommunity 
 Calendar\nhttps://jewishjacksonville.org/jewish-federation-of-jacksonville
 -calendar/river-garden-auxiliary-donor-lunch\n\nAnnual donor appreciation 
 event for the River Garden Auxiliary.\n\nCelebrating 100 years!\n\nContact
  Ellen Rubens (904) 651-6007 or Barb Safer (904) 268-1329\n\n 
DTSTART;TZID=America/New_York:20230308T113000
DTEND;TZID=America/New_York:20230308T133000
END:VEVENT
END:VCALENDAR
