BEGIN:VCALENDAR
PRODID:-//eluceo/ical//2.0/EN
VERSION:2.0
CALSCALE:GREGORIAN
BEGIN:VEVENT
UID:641877222d53d0059f4ec0a4f32a9466
DTSTAMP:20260424T075413Z
SUMMARY:** River Garden Anniversary Day (80th)
DESCRIPTION:Jewish Federation & Foundation of Northeast Florida\nCommunity 
 Calendar\nhttps://jewishjacksonville.org/jewish-federation-of-jacksonville
 -calendar/river-garden-anniversary-day-80th\n\nContact Kari Bell for detai
 ls (904) 260-1818
DTSTART;TZID=America/New_York:20260322T150000
DTEND;TZID=America/New_York:20260322T180000
END:VEVENT
END:VCALENDAR
