BEGIN:VCALENDAR
PRODID:-//eluceo/ical//2.0/EN
VERSION:2.0
CALSCALE:GREGORIAN
BEGIN:VEVENT
UID:6c472723bcbc9928f041648a32100620
DTSTAMP:20260424T111025Z
SUMMARY:River Garden Admissions meeting
DESCRIPTION:Jewish Federation & Foundation of Northeast Florida\nCommunity 
 Calendar\nhttps://jewishjacksonville.org/jewish-federation-of-jacksonville
 -calendar/river-garden-admissions-meetingoct\n\nRiver Garden Admissions me
 eting
DTSTART;TZID=America/New_York:20161031T183000
DTEND;TZID=America/New_York:20161031T190000
END:VEVENT
END:VCALENDAR
