BEGIN:VCALENDAR
PRODID:-//eluceo/ical//2.0/EN
VERSION:2.0
CALSCALE:GREGORIAN
BEGIN:VEVENT
UID:21927ff7504280f943b7ad4ac3f29622
DTSTAMP:20260423T092902Z
SUMMARY:River Garden Admission meeting
DESCRIPTION:Jewish Federation & Foundation of Northeast Florida\nCommunity 
 Calendar\nhttps://jewishjacksonville.org/jewish-federation-of-jacksonville
 -calendar/river-garden-admission-meetingjan\n\nriver garden
DTSTART;TZID=America/New_York:20170130T183000
DTEND;TZID=America/New_York:20170130T190000
END:VEVENT
END:VCALENDAR
