BEGIN:VCALENDAR
PRODID:-//eluceo/ical//2.0/EN
VERSION:2.0
CALSCALE:GREGORIAN
BEGIN:VEVENT
UID:7af100a829216e99110207298237cc10
DTSTAMP:20260421T225248Z
SUMMARY:*River Garden - 29th River Garden Classic
DESCRIPTION:Jewish Federation & Foundation of Northeast Florida\nCommunity 
 Calendar\nhttps://jewishjacksonville.org/jewish-federation-of-jacksonville
 -calendar/river-garden-29th\n\n29th River Garden Classic\n\nMonday\, April
  28\, 2025\n\n12:00 p.m. – 6:00 p.m.\n\nDeerwood Country Club\n\nContact
 : Michelle Branly (904) 260-1818
DTSTART;TZID=America/New_York:20250428T120000
DTEND;TZID=America/New_York:20250428T180000
END:VEVENT
END:VCALENDAR
