BEGIN:VCALENDAR
PRODID:-//eluceo/ical//2.0/EN
VERSION:2.0
CALSCALE:GREGORIAN
BEGIN:VEVENT
UID:944fec450fb6b89e8ac5d85efc976004
DTSTAMP:20260422T072650Z
SUMMARY:7:00 PM  rGENerosity 2018 FUNDRAISER
DESCRIPTION:Jewish Federation & Foundation of Northeast Florida\nCommunity 
 Calendar\nhttps://jewishjacksonville.org/jewish-federation-of-jacksonville
 -calendar/rgenerosity2018\n\nDetails and Location TBA
DTSTART;TZID=America/New_York:20180127T190000
DTEND;TZID=America/New_York:20180127T210000
END:VEVENT
END:VCALENDAR
