BEGIN:VCALENDAR
PRODID:-//eluceo/ical//2.0/EN
VERSION:2.0
CALSCALE:GREGORIAN
BEGIN:VEVENT
UID:ee0143f8384f6eae298e931813121852
DTSTAMP:20260424T093613Z
SUMMARY:5:30PM rGEN August Torah on Tap
DESCRIPTION:Jewish Federation & Foundation of Northeast Florida\nCommunity 
 Calendar\nhttps://jewishjacksonville.org/jewish-federation-of-jacksonville
 -calendar/rgen-august-torah-on-tap\n\nMonthly happy hour with a twist! 
DTSTART;TZID=America/New_York:20160803T173000
DTEND;TZID=America/New_York:20160803T193000
END:VEVENT
END:VCALENDAR
