BEGIN:VCALENDAR
PRODID:-//eluceo/ical//2.0/EN
VERSION:2.0
CALSCALE:GREGORIAN
BEGIN:VEVENT
UID:78b218db5f285880b9ce32872575deb1
DTSTAMP:20260422T055601Z
SUMMARY:7PM Rabbis in the Round: The Afterlife
DESCRIPTION:Jewish Federation & Foundation of Northeast Florida\nCommunity 
 Calendar\nhttps://jewishjacksonville.org/jewish-federation-of-jacksonville
 -calendar/rabbis-in-the-round-the-afterlife\n\nCOMMUNITY PROGRAM: Rabbis i
 n the Round: The Afterlife  Many world religions have very specific noti
 ons of an afterlife\, but Judaism does not have much to say on the topic. 
 Join us for an inspirational evening as Rabbis Cohen\, Tilman and Feigenba
 um lead a discussion on the afterlife from the perspectives of the three m
 ajor denominations of Judaism. Advance registration appreciated.\n\nThis p
 rogram is on Monday\, February 29 from 7-8:30 pm.
DTSTART;TZID=America/New_York:20160229T190000
DTEND;TZID=America/New_York:20160229T203000
END:VEVENT
END:VCALENDAR
