BEGIN:VCALENDAR
PRODID:-//eluceo/ical//2.0/EN
VERSION:2.0
CALSCALE:GREGORIAN
BEGIN:VEVENT
UID:074917976b7f7d2bbf849b330aa13ce8
DTSTAMP:20260424T020254Z
SUMMARY:Rabbi Series - When the WW East Meets the WW West
DESCRIPTION:Jewish Federation & Foundation of Northeast Florida\nCommunity 
 Calendar\nhttps://jewishjacksonville.org/jewish-federation-of-jacksonville
 -calendar/rabbi-series-when-the-ww-east-meets-the-ww-west\n\nRabbi Series 
 - When the WW East Meets the WW West \n\n\n\n\nMonday\n1/10/2022\n7:00 PM
 \n1:30 on site 
DTSTART;TZID=America/New_York:20220110T133000
DTEND;TZID=America/New_York:20220110T190000
END:VEVENT
END:VCALENDAR
