BEGIN:VCALENDAR
PRODID:-//eluceo/ical//2.0/EN
VERSION:2.0
CALSCALE:GREGORIAN
BEGIN:VEVENT
UID:8d54bc09060e29475ad195f1bad7e419
DTSTAMP:20260426T024513Z
SUMMARY:Puttin' on the Ritz ball
DESCRIPTION:Jewish Federation & Foundation of Northeast Florida\nCommunity 
 Calendar\nhttps://jewishjacksonville.org/jewish-federation-of-jacksonville
 -calendar/puttin-on-the-ritz-ball\n\nWill be held at Marsh Landing Country
  Club. Great Gatsby theme.
DTSTART;TZID=America/New_York:20150207T190000
DTEND;TZID=America/New_York:20150207T233000
END:VEVENT
END:VCALENDAR
