BEGIN:VCALENDAR
PRODID:-//eluceo/ical//2.0/EN
VERSION:2.0
CALSCALE:GREGORIAN
BEGIN:VEVENT
UID:289fe886be06419b0bce23200ce33992
DTSTAMP:20260424T230823Z
SUMMARY:8pm Purim Spirit @ The Jacksonville Kollel feat. David Jaison
DESCRIPTION:Jewish Federation & Foundation of Northeast Florida\nCommunity 
 Calendar\nhttps://jewishjacksonville.org/jewish-federation-of-jacksonville
 -calendar/purim-spirit-jaison\n\nPurim Spirit @ The Jacksonville Kollel fe
 at. David Jaison\n\nhttps://purimspirit.eventbrite.com\n\n8:00 pm Sunday\,
  March 17th at The Jacksonville Kollel\n\n3651 Crown Point Road\, Jacksonv
 ille\, Florida 32257\n\nAdmission for 1 - $72\nAdmission for 2 - $100\n\nJ
 oin us and get into the Purim spirit! Enjoy an evening of live classical m
 usic\, sushi\, cocktails\, and community at The Jacksonville Kollel.
DTSTART;TZID=America/New_York:20240317T200000
DTEND;TZID=America/New_York:20240317T220000
END:VEVENT
END:VCALENDAR
