BEGIN:VCALENDAR
PRODID:-//eluceo/ical//2.0/EN
VERSION:2.0
CALSCALE:GREGORIAN
BEGIN:VEVENT
UID:9cd313d148f1c47c6e11c75c6ccddf2c
DTSTAMP:20260425T021406Z
SUMMARY:Purim 5778
DESCRIPTION:Jewish Federation & Foundation of Northeast Florida\nCommunity 
 Calendar\nhttps://jewishjacksonville.org/jewish-federation-of-jacksonville
 -calendar/purim-5778\n\nThe jolly festival of Purim is celebrated every 
 year on the 14th of the Hebrew month of Adar (late winter/early spring).
  It commemorates the salvation of the Jewish people in ancient Persia from
  Haman’s plot “to destroy\, kill and annihilate all the Jews\, young 
 and old\, infants and women\, in a single day\,” as recorded in the Meg
 illah (book of Esther).
DTSTART;TZID=America/New_York:20180301T000000
DTEND;TZID=America/New_York:20180301T235900
END:VEVENT
END:VCALENDAR
