BEGIN:VCALENDAR
PRODID:-//eluceo/ical//2.0/EN
VERSION:2.0
CALSCALE:GREGORIAN
BEGIN:VEVENT
UID:6b842089abeea3e7b9bd11bef319abfa
DTSTAMP:20260423T180523Z
SUMMARY:8:30AM JJC PTA Meeting and Brunch
DESCRIPTION:Jewish Federation & Foundation of Northeast Florida\nCommunity 
 Calendar\nhttps://jewishjacksonville.org/jewish-federation-of-jacksonville
 -calendar/pta-meeting-and-brunch\n\nPTA Meeting and Brunch for Members
DTSTART;TZID=America/New_York:20140921T083000
DTEND;TZID=America/New_York:20140921T103000
END:VEVENT
END:VCALENDAR
