BEGIN:VCALENDAR
PRODID:-//eluceo/ical//2.0/EN
VERSION:2.0
CALSCALE:GREGORIAN
BEGIN:VEVENT
UID:12c3848dfa6ecbf544102dbc030bad1c
DTSTAMP:20260424T185801Z
SUMMARY:President's Day
DESCRIPTION:Jewish Federation & Foundation of Northeast Florida\nCommunity 
 Calendar\nhttps://jewishjacksonville.org/jewish-federation-of-jacksonville
 -calendar/presidents-day\n\nPresident's Day
DTSTART;TZID=America/New_York:20150216T000000
DTEND;TZID=America/New_York:20150216T235500
END:VEVENT
END:VCALENDAR
