BEGIN:VCALENDAR
PRODID:-//eluceo/ical//2.0/EN
VERSION:2.0
CALSCALE:GREGORIAN
BEGIN:VEVENT
UID:05cc821dd253c983bbae0dcc586a80c1
DTSTAMP:20260423T125211Z
SUMMARY:9 AM - Preparation and delivery of Mitzvah Meals
DESCRIPTION:Jewish Federation & Foundation of Northeast Florida\nCommunity 
 Calendar\nhttps://jewishjacksonville.org/jewish-federation-of-jacksonville
 -calendar/preparation-and-delivery-of-mitzvah-meals\n\nPreparation and del
 ivery of Mitzvah Meals\n\nLocation: The Temple and the Jacksonville Jewish
  Center\n\nMitzvah Meals preparation will being at approx. 9 a.m.\, foll
 owed by delivery beginning at 11 a.m.\n\n 
DTSTART;TZID=America/New_York:20171225T090000
DTEND;TZID=America/New_York:20171225T130000
END:VEVENT
END:VCALENDAR
