BEGIN:VCALENDAR
PRODID:-//eluceo/ical//2.0/EN
VERSION:2.0
CALSCALE:GREGORIAN
BEGIN:VEVENT
UID:2374382e15ef09cdfd49ceec8e5ab5e2
DTSTAMP:20260425T204253Z
SUMMARY:Pre-GA Mission
DESCRIPTION:Jewish Federation & Foundation of Northeast Florida\nCommunity 
 Calendar\nhttps://jewishjacksonville.org/jewish-federation-of-jacksonville
 -calendar/pre-ga-mission\n\nThe Jewish Federation of Jacksonville is leadi
 ng a mission to Israel which will occur prior to the Jewish Federation of 
 North America’s General Assembly taking place in Tel Aviv. The tour wil
 l include what is expected on any Federation mission with highlights to be
  Shabbat in Jerusalem\, a Saturday evening celebration of Israel at 70\, a
  visit to Yad Vashem and Massada and the Dead Sea\, in addition to a trip 
 to Jacksonville’s partnership region of Hadera. Attendees will also get 
 to visit C...
DTSTART;TZID=America/New_York:20181013T000000
DTEND;TZID=America/New_York:20181022T230000
END:VEVENT
END:VCALENDAR
