BEGIN:VCALENDAR
PRODID:-//eluceo/ical//2.0/EN
VERSION:2.0
CALSCALE:GREGORIAN
BEGIN:VEVENT
UID:fc17815c50651d204f16c1a6e15033f5
DTSTAMP:20260424T151043Z
SUMMARY:PM River Garden Board Meetings (2023)
DESCRIPTION:Jewish Federation & Foundation of Northeast Florida\nCommunity 
 Calendar\nhttps://jewishjacksonville.org/jewish-federation-of-jacksonville
 -calendar/pm-river-garden-board-meetings-2023\n\nSenior Services 5:45-6:30
  PM\n\nAdmissions Committee 6:30-7:00 PM\n\nHebrew Home 7:00-8:00 PM
DTSTART;TZID=America/New_York:20230123T174500
DTEND;TZID=America/New_York:20230123T200000
END:VEVENT
END:VCALENDAR
