BEGIN:VCALENDAR
PRODID:-//eluceo/ical//2.0/EN
VERSION:2.0
CALSCALE:GREGORIAN
BEGIN:VEVENT
UID:a166cead2efdce30ed51d7e10a244f90
DTSTAMP:20260421T063052Z
SUMMARY:PM rGEN 2nd Night of Seder
DESCRIPTION:Jewish Federation & Foundation of Northeast Florida\nCommunity 
 Calendar\nhttps://jewishjacksonville.org/jewish-federation-of-jacksonville
 -calendar/pm-rgen-2nd-night-of-seder\n\nrGEN 2nd Night of Seder Event\n\nA
 pril 9\, 2020\n\nExact Time TBD
DTSTART;TZID=America/New_York:20200409T000000
DTEND;TZID=America/New_York:20200409T000000
END:VEVENT
END:VCALENDAR
