BEGIN:VCALENDAR
PRODID:-//eluceo/ical//2.0/EN
VERSION:2.0
CALSCALE:GREGORIAN
BEGIN:VEVENT
UID:291801c01adc9e5fb1d50f1ade856fea
DTSTAMP:20260425T183545Z
SUMMARY:PM Community Havdalah with rGEN
DESCRIPTION:Jewish Federation & Foundation of Northeast Florida\nCommunity 
 Calendar\nhttps://jewishjacksonville.org/jewish-federation-of-jacksonville
 -calendar/pm-community-havdalah\n\nCommunity Havdalah with rGEN at the PJ 
 Library (evening). More details to come. Contact Faye Hedrick at fayeh@jew
 ishjacksonville.org for more info.\n\n 
DTSTART;TZID=America/New_York:20200125T000000
DTEND;TZID=America/New_York:20200125T235959
END:VEVENT
END:VCALENDAR
