BEGIN:VCALENDAR
PRODID:-//eluceo/ical//2.0/EN
VERSION:2.0
CALSCALE:GREGORIAN
BEGIN:VEVENT
UID:6b105ef365384173cbd0c7d06bb0205f
DTSTAMP:20260423T225938Z
SUMMARY:11:00 AM Picnic in the Park
DESCRIPTION:Jewish Federation & Foundation of Northeast Florida\nCommunity 
 Calendar\nhttps://jewishjacksonville.org/jewish-federation-of-jacksonville
 -calendar/picnic-in-the-park\n\nThe Temple Membership Committee is proud t
 o host our 2nd Annual New Member Picnic in the Park at Hanna Park.  Join 
 us as we welcome the newest members to Temple at this family event.  Temp
 le will provide the beverages\, hot dogs and hamburgers\, please bring a d
 ish to pass.  Just $3 per vehicle for parking! Contact Rita Brady at (904
 ) 240-1476\, Colleen Feldman at (904) 287-1977 or Marie Reitzes at (904) 3
 79-4622 for more information. RSVP to jbhiker@hotmail.com if you wish to a
 ttend!\n\n 
DTSTART;TZID=America/New_York:20140720T110000
DTEND;TZID=America/New_York:20140720T150000
END:VEVENT
END:VCALENDAR
