BEGIN:VCALENDAR
PRODID:-//eluceo/ical//2.0/EN
VERSION:2.0
CALSCALE:GREGORIAN
BEGIN:VEVENT
UID:56c3a2677cbd1dbad58e701896c3b337
DTSTAMP:20260421T141606Z
SUMMARY:Passover 5777
DESCRIPTION:Jewish Federation & Foundation of Northeast Florida\nCommunity 
 Calendar\nhttps://jewishjacksonville.org/jewish-federation-of-jacksonville
 -calendar/passover-5777\n\nThe eight-day festival of Passover is celebra
 ted in the early spring\, from the 15th through the 22nd of the Hebrew mon
 th of Nissan (April 10–18\, 2017). It commemorates the emancipation of
  the Israelites from slavery in ancient Egypt. It is observed by avoidin
 g leaven\, and highlighted by the Seder meals that include four cups of 
 wine\, eating matzah and bitter herbs\, and retelling the story of the 
 Exodus.\n\nIn Hebrew it is known as Pesach (which means “to pass over
 ”)\, becaus...
DTSTART;TZID=America/New_York:20170411T190000
DTEND;TZID=America/New_York:20170418T000000
END:VEVENT
END:VCALENDAR
