BEGIN:VCALENDAR
PRODID:-//eluceo/ical//2.0/EN
VERSION:2.0
CALSCALE:GREGORIAN
BEGIN:VEVENT
UID:9f6f0e5a49632f6835a3b2339e6ce07a
DTSTAMP:20260426T042150Z
SUMMARY:6pm I&O JFFNF P2G Speakers from Hadera-Eiron Israel post-October 7 
 Stories
DESCRIPTION:Jewish Federation & Foundation of Northeast Florida\nCommunity 
 Calendar\nhttps://jewishjacksonville.org/jewish-federation-of-jacksonville
 -calendar/p2g-speakers-post-oct-7\n\nPartnership2gether Speakers from Hade
 ra-Eiron\nIsrael post-October 7 - personal stories\n\nThursday\, November 
 21\, JFCS Boardroom\, 6 pm\n\nFriday\, November 22\, Cohen Auditorium\, Ri
 ver Garden\, 10 am\n\nFriday\, November 22\, Jacksonville Jewish Center\, 
 6 pm\n\nFriday\, November 22\, Congregation Ahavath Chesed\, 7 pm\n\nSatur
 day\, November 23\, Jacksonville Jewish Center\, 10 am\n\nSunday\, Novembe
 r 24th\, Etz Chaim\, 10 am 
DTSTART;TZID=America/New_York:20241122T180000
DTEND;TZID=America/New_York:20241122T190000
END:VEVENT
END:VCALENDAR
