BEGIN:VCALENDAR
PRODID:-//eluceo/ical//2.0/EN
VERSION:2.0
CALSCALE:GREGORIAN
BEGIN:VEVENT
UID:1d54aa754128c7545779fcfb1948d265
DTSTAMP:20260424T111038Z
SUMMARY:6:00 p.m. Federation Board Meeting
DESCRIPTION:Jewish Federation & Foundation of Northeast Florida\nCommunity 
 Calendar\nhttps://jewishjacksonville.org/jewish-federation-of-jacksonville
 -calendar/oct-federation-board-meeting\n\nFederation Board Meeting\n\nOcto
 ber 24\, 2019\n\n6:00 - 7:30 p.m.
DTSTART;TZID=America/New_York:20191024T180000
DTEND;TZID=America/New_York:20191024T193000
END:VEVENT
END:VCALENDAR
