BEGIN:VCALENDAR
PRODID:-//eluceo/ical//2.0/EN
VERSION:2.0
CALSCALE:GREGORIAN
BEGIN:VEVENT
UID:d4c315fa073b8590cf6eec1c8a8b538a
DTSTAMP:20260421T095222Z
SUMMARY:6:00 p.m. Federation Women's Division Beaches Happy Hour
DESCRIPTION:Jewish Federation & Foundation of Northeast Florida\nCommunity 
 Calendar\nhttps://jewishjacksonville.org/jewish-federation-of-jacksonville
 -calendar/nov-federation-womens-division-beaches-happy-hour\n\nFederation 
 Women's Division Beaches Happy Hour\n\nNovember 21\, 2019\n\n6:00 - 7:30 P
 .M.\n\nMulligans Pub (43 PGA Tour\, Sawgrass Village)\n\n 
DTSTART;TZID=America/New_York:20191121T180000
DTEND;TZID=America/New_York:20191121T193000
END:VEVENT
END:VCALENDAR
