BEGIN:VCALENDAR
PRODID:-//eluceo/ical//2.0/EN
VERSION:2.0
CALSCALE:GREGORIAN
BEGIN:VEVENT
UID:94c9484d1ddc7737f4c9501fae47c481
DTSTAMP:20260422T181447Z
SUMMARY:6:00 pm YPF Quarterly Cocktails
DESCRIPTION:Jewish Federation & Foundation of Northeast Florida\nCommunity 
 Calendar\nhttps://jewishjacksonville.org/jewish-federation-of-jacksonville
 -calendar/nov-federation-rgen-quarterly-cocktails\n\nLocation: Beirut rest
 aurant\, 3928 Baymeadows road. JCA childcare will be an option for this Qu
 arterly Cocktails event! Contact Faye Hedrick at fayeh@jewishjacksonville
 .org
DTSTART;TZID=America/New_York:20211110T180000
DTEND;TZID=America/New_York:20211110T210000
END:VEVENT
END:VCALENDAR
