BEGIN:VCALENDAR
PRODID:-//eluceo/ical//2.0/EN
VERSION:2.0
CALSCALE:GREGORIAN
BEGIN:VEVENT
UID:6b9c6b2a430c392f1c79171a358fbbff
DTSTAMP:20260424T162232Z
SUMMARY:Not Your Grandmother's Passover Seder
DESCRIPTION:Jewish Federation & Foundation of Northeast Florida\nCommunity 
 Calendar\nhttps://jewishjacksonville.org/jewish-federation-of-jacksonville
 -calendar/not-your-grandmothers-passover-seder\n\nFor more information\, p
 lease contact Beth El - The Beaches. 
DTSTART;TZID=America/New_York:20230326T170000
DTEND;TZID=America/New_York:20230326T200000
END:VEVENT
END:VCALENDAR
