BEGIN:VCALENDAR
PRODID:-//eluceo/ical//2.0/EN
VERSION:2.0
CALSCALE:GREGORIAN
BEGIN:VEVENT
UID:f54a1f8e4fa7ec7b167cfb817b3a5f0f
DTSTAMP:20260422T231305Z
SUMMARY:New Year's Day
DESCRIPTION:Jewish Federation & Foundation of Northeast Florida\nCommunity 
 Calendar\nhttps://jewishjacksonville.org/jewish-federation-of-jacksonville
 -calendar/new-years-day\n\nNew Year's Day
DTSTART;TZID=America/New_York:20150101T000000
DTEND;TZID=America/New_York:20150101T235500
END:VEVENT
END:VCALENDAR
