BEGIN:VCALENDAR
PRODID:-//eluceo/ical//2.0/EN
VERSION:2.0
CALSCALE:GREGORIAN
BEGIN:VEVENT
UID:2b04316540e2ecb64bbd3778d1ae8686
DTSTAMP:20260423T124815Z
SUMMARY:4:30PM JCA New Member Connexion Brunch
DESCRIPTION:Jewish Federation & Foundation of Northeast Florida\nCommunity 
 Calendar\nhttps://jewishjacksonville.org/jewish-federation-of-jacksonville
 -calendar/new-member-connexion-bruchn\n\nCommunity program: JCA New Member
  Connexion Social\n\nhttp://reg.jcajax.org/OnlineEdge/programlist.html
DTSTART;TZID=America/New_York:20150802T163000
DTEND;TZID=America/New_York:20150803T180000
END:VEVENT
END:VCALENDAR
