BEGIN:VCALENDAR
PRODID:-//eluceo/ical//2.0/EN
VERSION:2.0
CALSCALE:GREGORIAN
BEGIN:VEVENT
UID:4f20b9d5977a54dc38433b8b3ff7fe1b
DTSTAMP:20260422T021613Z
SUMMARY:Nefesh B'Nefesh Virtual Webinar: First Steps to Aliyah for Families
DESCRIPTION:Jewish Federation & Foundation of Northeast Florida\nCommunity 
 Calendar\nhttps://jewishjacksonville.org/jewish-federation-of-jacksonville
 -calendar/nefesh-bnefesh-virtual-webinar-first-steps-to-aliyah-for-familie
 s\n\nfirst steps to aliyah for families
DTSTART;TZID=America/New_York:20200823T153000
DTEND;TZID=America/New_York:20200823T163000
END:VEVENT
END:VCALENDAR
