BEGIN:VCALENDAR
PRODID:-//eluceo/ical//2.0/EN
VERSION:2.0
CALSCALE:GREGORIAN
BEGIN:VEVENT
UID:d5a95fe24c3cc7f4e992e243c6d2e6c9
DTSTAMP:20260424T080320Z
SUMMARY:Myths and Facts: Alzheimers Disease from Diagnosis to Prevention
DESCRIPTION:Jewish Federation & Foundation of Northeast Florida\nCommunity 
 Calendar\nhttps://jewishjacksonville.org/jewish-federation-of-jacksonville
 -calendar/myths-and-facts-alzheimers-disease-from-diagnosis-to-prevention\
 n\nJacksonville Hadassah and the Temple Sisterhood are co-sponsoring an ed
 ucational program that will explore thespectrumof Alzheimer's Disease and 
 related dementias fromsymptoms\, evaluation and diagosis to prevention and
  current cutting-edge research\, including relaxation techniquest and othe
 r tips for overall health.\n\nTo be held at the Temple\, 8727 San Jose Blv
 d.  Speakers are Francine C. Parfitt and MichelleGraff-Radford\, both of 
 Mayo.  $5 at the door.\n\nRSVP JACKSONVILLEHADASSAH@GMAIL.C...
DTSTART;TZID=America/New_York:20191112T190000
DTEND;TZID=America/New_York:20191112T210000
END:VEVENT
END:VCALENDAR
