BEGIN:VCALENDAR
PRODID:-//eluceo/ical//2.0/EN
VERSION:2.0
CALSCALE:GREGORIAN
BEGIN:VEVENT
UID:60dcf34af41400b0005965e7e8125733
DTSTAMP:20260423T142222Z
SUMMARY:Movie Screening
DESCRIPTION:Jewish Federation & Foundation of Northeast Florida\nCommunity 
 Calendar\nhttps://jewishjacksonville.org/jewish-federation-of-jacksonville
 -calendar/movie-screening\n\nALL AGES are invited to enjoy the animated mo
 vie \nAn American Tail.  
DTSTART;TZID=America/New_York:20180624T100000
DTEND;TZID=America/New_York:20180624T120000
END:VEVENT
END:VCALENDAR
