BEGIN:VCALENDAR
PRODID:-//eluceo/ical//2.0/EN
VERSION:2.0
CALSCALE:GREGORIAN
BEGIN:VEVENT
UID:ff57bea31c7801e63470d40ff279d287
DTSTAMP:20260423T024727Z
SUMMARY:7:10AM JJC Morning Megillah Reading for Purim
DESCRIPTION:Jewish Federation & Foundation of Northeast Florida\nCommunity 
 Calendar\nhttps://jewishjacksonville.org/jewish-federation-of-jacksonville
 -calendar/morning-megillah-reading-for-purim-1\n\nMegillah Reading
DTSTART;TZID=America/New_York:20150305T071000
DTEND;TZID=America/New_York:20150305T090000
END:VEVENT
END:VCALENDAR
