BEGIN:VCALENDAR
PRODID:-//eluceo/ical//2.0/EN
VERSION:2.0
CALSCALE:GREGORIAN
BEGIN:VEVENT
UID:2a7520388c40664b305386a0ee567ac0
DTSTAMP:20260422T123421Z
SUMMARY:Model Sedar
DESCRIPTION:Jewish Federation & Foundation of Northeast Florida\nCommunity 
 Calendar\nhttps://jewishjacksonville.org/jewish-federation-of-jacksonville
 -calendar/model-sedar\n\nFor more information please contact Hilary Rotenb
 erg at 904.394.5722 or Ilene Schinasi at 904.394.5724
DTSTART;TZID=America/New_York:20150327T130000
DTEND;TZID=America/New_York:20150327T150000
END:VEVENT
END:VCALENDAR
