BEGIN:VCALENDAR
PRODID:-//eluceo/ical//2.0/EN
VERSION:2.0
CALSCALE:GREGORIAN
BEGIN:VEVENT
UID:2a7ef07804a506beca42c1c5c11aa0fd
DTSTAMP:20260421T093212Z
SUMMARY:MJGDS Science Fair JJC
DESCRIPTION:Jewish Federation & Foundation of Northeast Florida\nCommunity 
 Calendar\nhttps://jewishjacksonville.org/jewish-federation-of-jacksonville
 -calendar/mjgds-science-fair-jjc\n\nMJGDS Science Fair JJC
DTSTART;TZID=America/New_York:20130212T180000
DTEND;TZID=America/New_York:20130212T213000
END:VEVENT
END:VCALENDAR
