BEGIN:VCALENDAR
PRODID:-//eluceo/ical//2.0/EN
VERSION:2.0
CALSCALE:GREGORIAN
BEGIN:VEVENT
UID:8cdfd7c0dab0212db2dde28f91122e54
DTSTAMP:20260423T092933Z
SUMMARY:MJGDS PJ Story Night  JJC
DESCRIPTION:Jewish Federation & Foundation of Northeast Florida\nCommunity 
 Calendar\nhttps://jewishjacksonville.org/jewish-federation-of-jacksonville
 -calendar/mjgds-pj-story-night--jjc\n\nMJGDS PJ Story Night  JJC
DTSTART;TZID=America/New_York:20130115T183000
DTEND;TZID=America/New_York:20130115T193000
END:VEVENT
END:VCALENDAR
