BEGIN:VCALENDAR
PRODID:-//eluceo/ical//2.0/EN
VERSION:2.0
CALSCALE:GREGORIAN
BEGIN:VEVENT
UID:7f72f2a5cc951f831d0c638503d70871
DTSTAMP:20260423T110556Z
SUMMARY:MJGDS Mother/Son Bowling JJC
DESCRIPTION:Jewish Federation & Foundation of Northeast Florida\nCommunity 
 Calendar\nhttps://jewishjacksonville.org/jewish-federation-of-jacksonville
 -calendar/mjgds-mother-son-bowling-jjc\n\nMJGDS Mother/Son Bowling JJC
DTSTART;TZID=America/New_York:20130505T160000
DTEND;TZID=America/New_York:20130505T180000
END:VEVENT
END:VCALENDAR
