BEGIN:VCALENDAR
PRODID:-//eluceo/ical//2.0/EN
VERSION:2.0
CALSCALE:GREGORIAN
BEGIN:VEVENT
UID:8540d54ce3c8d0c5d621d6aa5f557ddb
DTSTAMP:20260422T123902Z
SUMMARY:MJGDS Back to School night
DESCRIPTION:Jewish Federation & Foundation of Northeast Florida\nCommunity 
 Calendar\nhttps://jewishjacksonville.org/jewish-federation-of-jacksonville
 -calendar/mjgds-back-to-school-night\n\nBack to School orientation
DTSTART;TZID=America/New_York:20140904T180000
DTEND;TZID=America/New_York:20140904T210000
END:VEVENT
END:VCALENDAR
