BEGIN:VCALENDAR
PRODID:-//eluceo/ical//2.0/EN
VERSION:2.0
CALSCALE:GREGORIAN
BEGIN:VEVENT
UID:068f2fe6a0f31c48ce58e619c2390c70
DTSTAMP:20260421T060346Z
SUMMARY:8:45AM JCA Membership Open House
DESCRIPTION:Jewish Federation & Foundation of Northeast Florida\nCommunity 
 Calendar\nhttps://jewishjacksonville.org/jewish-federation-of-jacksonville
 -calendar/mbr-open-house\n\nContact us for more information!
DTSTART;TZID=America/New_York:20190106T084500
DTEND;TZID=America/New_York:20190106T160000
END:VEVENT
END:VCALENDAR
