BEGIN:VCALENDAR
PRODID:-//eluceo/ical//2.0/EN
VERSION:2.0
CALSCALE:GREGORIAN
BEGIN:VEVENT
UID:3ed8abcfb16d2c27d6055f8ef18d8eb2
DTSTAMP:20260423T024856Z
SUMMARY:Martin J Gottlieb First Day of School
DESCRIPTION:Jewish Federation & Foundation of Northeast Florida\nCommunity 
 Calendar\nhttps://jewishjacksonville.org/jewish-federation-of-jacksonville
 -calendar/martin-j-gottlieb-first-day-of-school\n\n8:15-3:45
DTSTART;TZID=America/New_York:20170821T000000
DTEND;TZID=America/New_York:20170821T235959
END:VEVENT
END:VCALENDAR
