BEGIN:VCALENDAR
PRODID:-//eluceo/ical//2.0/EN
VERSION:2.0
CALSCALE:GREGORIAN
BEGIN:VEVENT
UID:bc7491ed7c27d0ebf27b923e3dba56e6
DTSTAMP:20260420T232341Z
SUMMARY:4PM Martin J. Gottlieb Day School's musical 'Music Man Jr.'
DESCRIPTION:Jewish Federation & Foundation of Northeast Florida\nCommunity 
 Calendar\nhttps://jewishjacksonville.org/jewish-federation-of-jacksonville
 -calendar/martin-j-gottlieb-day-schools-musical-music-man-jr\n\nEnjoy a st
 udent performance of Music Man Jr. at the Jacksonville Jewish Center. St
 udents from VPK through 8th grade are the stars!\n\n \n\nApril 5 @ 3 pm\
 n\nApril 7 @ 4 pm
DTSTART;TZID=America/New_York:20190407T160000
DTEND;TZID=America/New_York:20190407T170000
END:VEVENT
END:VCALENDAR
