BEGIN:VCALENDAR
PRODID:-//eluceo/ical//2.0/EN
VERSION:2.0
CALSCALE:GREGORIAN
BEGIN:VEVENT
UID:a866c3b29a2e9ae392b5aa5aa34e69d0
DTSTAMP:20260422T003355Z
SUMMARY:Martin J. Gottlieb Day School Kitah Alef Consecration program
DESCRIPTION:Jewish Federation & Foundation of Northeast Florida\nCommunity 
 Calendar\nhttps://jewishjacksonville.org/jewish-federation-of-jacksonville
 -calendar/martin-j-gottlieb-day-school-kitah-alef-consecration-program\n\n
 Kitah Alef Consecration program during services
DTSTART;TZID=America/New_York:20170225T093000
DTEND;TZID=America/New_York:20170225T110000
END:VEVENT
END:VCALENDAR
