BEGIN:VCALENDAR
PRODID:-//eluceo/ical//2.0/EN
VERSION:2.0
CALSCALE:GREGORIAN
BEGIN:VEVENT
UID:58fd56e9e35624a8bee4fa6740aeb56e
DTSTAMP:20260423T180342Z
SUMMARY:10AM Martin J. Gottlieb Day School Kitah Alef Consecration
DESCRIPTION:Jewish Federation & Foundation of Northeast Florida\nCommunity 
 Calendar\nhttps://jewishjacksonville.org/jewish-federation-of-jacksonville
 -calendar/martin-j-gottlieb-day-school-kitah-alef-consecration\n\nKitah Al
 ef Consecration during regular services
DTSTART;TZID=America/New_York:20160206T100000
DTEND;TZID=America/New_York:20160206T113000
END:VEVENT
END:VCALENDAR
