BEGIN:VCALENDAR
PRODID:-//eluceo/ical//2.0/EN
VERSION:2.0
CALSCALE:GREGORIAN
BEGIN:VEVENT
UID:cac86efdd04594dc03948e429c149f29
DTSTAMP:20260424T173530Z
SUMMARY:5:40PM Martin J. Gottlieb Day School Kindergarten Shabbat Service &
  Dinner
DESCRIPTION:Jewish Federation & Foundation of Northeast Florida\nCommunity 
 Calendar\nhttps://jewishjacksonville.org/jewish-federation-of-jacksonville
 -calendar/martin-j-gottlieb-day-school-kindergarten-shabbat-service-and-di
 nner\n\nAll welcome to service\, dinner by reservation\n 
DTSTART;TZID=America/New_York:20160205T174000
DTEND;TZID=America/New_York:20160205T193000
END:VEVENT
END:VCALENDAR
